BEGIN:VCALENDAR
VERSION:2.0
PRODID:-//Qwankido - ECPv6.15.18//NONSGML v1.0//EN
CALSCALE:GREGORIAN
METHOD:PUBLISH
X-ORIGINAL-URL:https://qwankido.at
X-WR-CALDESC:Veranstaltungen für Qwankido
REFRESH-INTERVAL;VALUE=DURATION:PT1H
X-Robots-Tag:noindex
X-PUBLISHED-TTL:PT1H
BEGIN:VTIMEZONE
TZID:Europe/Vienna
BEGIN:DAYLIGHT
TZOFFSETFROM:+0100
TZOFFSETTO:+0200
TZNAME:CEST
DTSTART:20230326T010000
END:DAYLIGHT
BEGIN:STANDARD
TZOFFSETFROM:+0200
TZOFFSETTO:+0100
TZNAME:CET
DTSTART:20231029T010000
END:STANDARD
BEGIN:DAYLIGHT
TZOFFSETFROM:+0100
TZOFFSETTO:+0200
TZNAME:CEST
DTSTART:20240331T010000
END:DAYLIGHT
BEGIN:STANDARD
TZOFFSETFROM:+0200
TZOFFSETTO:+0100
TZNAME:CET
DTSTART:20241027T010000
END:STANDARD
BEGIN:DAYLIGHT
TZOFFSETFROM:+0100
TZOFFSETTO:+0200
TZNAME:CEST
DTSTART:20250330T010000
END:DAYLIGHT
BEGIN:STANDARD
TZOFFSETFROM:+0200
TZOFFSETTO:+0100
TZNAME:CET
DTSTART:20251026T010000
END:STANDARD
END:VTIMEZONE
BEGIN:VEVENT
DTSTART;TZID=Europe/Vienna:20241207T100000
DTEND;TZID=Europe/Vienna:20241207T170000
DTSTAMP:20260421T123140
CREATED:20240222T121742Z
LAST-MODIFIED:20241119T223723Z
UID:18701-1733565600-1733590800@qwankido.at
SUMMARY:Nikolausmeisterschaft
DESCRIPTION:Wir laden Euch herzlich zur diesjährigen Nikolausmeisterschaft ein! \nWann: 7. Dezember 2024\nWo: 22\, Wulzendorfstraße 1\, 1220 Wien\nStart: 10:00 Uhr\nEnde: Wird bekannt gegeben\, sobald die Anmeldungen vorliegen \nKosten: 10 € für die erste Kategorie\, jede weitere Kategorie + 5 €\n(Barzahlung vor Ort im Training) \nAnmeldeschluss: 3. Dezember 2024\nHinweis: Für Anmeldungen nach dem Anmeldeschluss oder vor Ort wird eine zusätzliche Gebühr von 3 € erhoben. \nKategorien: \n1. Thao Quyen (Schattenkampf): \nDer vorzuzeigende Quyen oder Doc Luyen muss der Graduierung des Athleten bzw. der Athletin oder einer Graduierung darüber entsprechen. \n2. Quyen Synchron (Schattenkampf Synchron): \n\nJede:r Teilnehmer:in muss sich eigenständig anmelden.\nEin Synchron-Team besteht aus 3 Teilnehmer:innen.\nDer Graduierungsunterschied zwischen den Teilnehmer:innen darf maximal eine Graduierung betragen.\nJede:r ist selbst verantwortlich für die Teameinteilung.\n\n3. Giao Dao (geregelter Kampf): \n\nJede:r Kämpfer:in muss über eine vollständige Schutzausrüstung verfügen (Schienbeinschoner\, Handschuhe\, Mundschutz\, Tiefschutz).\nAm Wettkampftag müssen die Teilnehmer:innen mindestens 8 Jahre alt sein.\nKommt ein:e Kämpfer:in ohne passende Schutzausrüstung\, erfolgt eine automatische Disqualifikation.\nDie Ausrüstung kann untereinander ausgetauscht werden\, jedoch ist jede:r selbst verantwortlich\, dass die Schutzausrüstung vollständig vorhanden ist!\n\nAnmeldung: \nBitte meldet Euch über unsere Webseite oder direkt über folgenden Link an: \nZur Anmeldung \nWir freuen uns auf zahlreiche Teilnehmer:innen und einen spannenden Wettkampftag!
URL:https://qwankido.at/event/nationalmeisterschaft/
LOCATION:VS Wulzendrofstraße\, Wulzendorfstraße 1\, Wien\, Wien\, 1220\, Austria
CATEGORIES:Meisterschaft
END:VEVENT
BEGIN:VEVENT
DTSTART;VALUE=DATE:20241208
DTEND;VALUE=DATE:20241209
DTSTAMP:20260421T123141
CREATED:20240222T112247Z
LAST-MODIFIED:20240222T112506Z
UID:18641-1733616000-1733702399@qwankido.at
SUMMARY:Mariä Empfängnis
DESCRIPTION:
URL:https://qwankido.at/event/mariae-empfaengnis/
LOCATION:Wien
CATEGORIES:Feiertag
END:VEVENT
BEGIN:VEVENT
DTSTART;VALUE=DATE:20241208
DTEND;VALUE=DATE:20241209
DTSTAMP:20260421T123141
CREATED:20240222T121823Z
LAST-MODIFIED:20241119T230246Z
UID:18703-1733616000-1733702399@qwankido.at
SUMMARY:Weihnachtsfeier
DESCRIPTION:für Praktikanten\, Eltern und Freunde – diesmal anders\nWann: Sonntag 8.12\nStart: 15 Uhr-17 Uhr\nWo: 22\, VS Wulzendorfstrasse 1 \nDer Verein stellt den Punsch\, solange der Vorrat reicht\, Weihnachtsmusik und Stimmung.\nBitten alle um Keksspenden\, was nicht gegessen wird\, bitte wieder mitnehmen \nWir hoffen auf zahlreiches Erscheinen
URL:https://qwankido.at/event/weihnachtsfeier/
LOCATION:VS Wulzendrofstraße\, Wulzendorfstraße 1\, Wien\, Wien\, 1220\, Austria
CATEGORIES:Partys
END:VEVENT
BEGIN:VEVENT
DTSTART;VALUE=DATE:20241225
DTEND;VALUE=DATE:20241226
DTSTAMP:20260421T123141
CREATED:20240222T112247Z
LAST-MODIFIED:20240222T112506Z
UID:18642-1735084800-1735171199@qwankido.at
SUMMARY:Christtag
DESCRIPTION:
URL:https://qwankido.at/event/christtag/
LOCATION:Wien
CATEGORIES:Feiertag
END:VEVENT
BEGIN:VEVENT
DTSTART;VALUE=DATE:20241226
DTEND;VALUE=DATE:20241227
DTSTAMP:20260421T123141
CREATED:20240222T112247Z
LAST-MODIFIED:20240222T112506Z
UID:18643-1735171200-1735257599@qwankido.at
SUMMARY:Stefanitag
DESCRIPTION:
URL:https://qwankido.at/event/stefanitag/
LOCATION:Wien
CATEGORIES:Feiertag
END:VEVENT
END:VCALENDAR